BEGIN:VCALENDAR
VERSION:2.0
PRODID:-//NGK De Morgenster | Wezep - ECPv6.15.20//NONSGML v1.0//EN
CALSCALE:GREGORIAN
METHOD:PUBLISH
X-ORIGINAL-URL:https://ngk-wezep.nl
X-WR-CALDESC:Evenementen voor NGK De Morgenster | Wezep
REFRESH-INTERVAL;VALUE=DURATION:PT1H
X-Robots-Tag:noindex
X-PUBLISHED-TTL:PT1H
BEGIN:VTIMEZONE
TZID:Europe/Amsterdam
BEGIN:DAYLIGHT
TZOFFSETFROM:+0100
TZOFFSETTO:+0200
TZNAME:CEST
DTSTART:20250330T010000
END:DAYLIGHT
BEGIN:STANDARD
TZOFFSETFROM:+0200
TZOFFSETTO:+0100
TZNAME:CET
DTSTART:20251026T010000
END:STANDARD
BEGIN:DAYLIGHT
TZOFFSETFROM:+0100
TZOFFSETTO:+0200
TZNAME:CEST
DTSTART:20260329T010000
END:DAYLIGHT
BEGIN:STANDARD
TZOFFSETFROM:+0200
TZOFFSETTO:+0100
TZNAME:CET
DTSTART:20261025T010000
END:STANDARD
BEGIN:DAYLIGHT
TZOFFSETFROM:+0100
TZOFFSETTO:+0200
TZNAME:CEST
DTSTART:20270328T010000
END:DAYLIGHT
BEGIN:STANDARD
TZOFFSETFROM:+0200
TZOFFSETTO:+0100
TZNAME:CET
DTSTART:20271031T010000
END:STANDARD
END:VTIMEZONE
BEGIN:VEVENT
DTSTART;TZID=Europe/Amsterdam:20260607T093000
DTEND;TZID=Europe/Amsterdam:20260607T103000
DTSTAMP:20260419T220405
CREATED:20250829T195804Z
LAST-MODIFIED:20260419T195507Z
UID:11440-1780824600-1780828200@ngk-wezep.nl
SUMMARY:Kerkdienst ds. J.M. de Groot
DESCRIPTION:
URL:https://ngk-wezep.nl/event/kerkdienst-ds-j-m-de-groot-19/
CATEGORIES:Kerkdienst
END:VEVENT
BEGIN:VEVENT
DTSTART;TZID=Europe/Amsterdam:20260607T163000
DTEND;TZID=Europe/Amsterdam:20260607T173000
DTSTAMP:20260419T220405
CREATED:20250829T195804Z
LAST-MODIFIED:20260419T195507Z
UID:11441-1780849800-1780853400@ngk-wezep.nl
SUMMARY:Kerkdienst ds. C.J. van Rhijn
DESCRIPTION:
URL:https://ngk-wezep.nl/event/kerkdienst-ds-c-j-van-rhijn-20/
CATEGORIES:Kerkdienst
END:VEVENT
BEGIN:VEVENT
DTSTART;TZID=Europe/Amsterdam:20260614T093000
DTEND;TZID=Europe/Amsterdam:20260614T103000
DTSTAMP:20260419T220405
CREATED:20250829T195804Z
LAST-MODIFIED:20260419T195508Z
UID:11442-1781429400-1781433000@ngk-wezep.nl
SUMMARY:Kerkdienst ds. C.J. van Rhijn
DESCRIPTION:
URL:https://ngk-wezep.nl/event/kerkdienst-ds-c-j-van-rhijn-21/
CATEGORIES:Kerkdienst
END:VEVENT
BEGIN:VEVENT
DTSTART;TZID=Europe/Amsterdam:20260614T163000
DTEND;TZID=Europe/Amsterdam:20260614T173000
DTSTAMP:20260419T220405
CREATED:20250829T195804Z
LAST-MODIFIED:20260419T195508Z
UID:11443-1781454600-1781458200@ngk-wezep.nl
SUMMARY:Kerkdienst (in Noorderlicht)
DESCRIPTION:
URL:https://ngk-wezep.nl/event/kerkdienst-in-noorderlicht-5/
CATEGORIES:Kerkdienst
END:VEVENT
BEGIN:VEVENT
DTSTART;TZID=Europe/Amsterdam:20260618T193000
DTEND;TZID=Europe/Amsterdam:20260618T220000
DTSTAMP:20260419T220405
CREATED:20260105T200114Z
LAST-MODIFIED:20260419T195508Z
UID:11765-1781811000-1781820000@ngk-wezep.nl
SUMMARY:Sectie overleg
DESCRIPTION:
URL:https://ngk-wezep.nl/event/sectie-overleg-3/
CATEGORIES:Kerkdienst
END:VEVENT
BEGIN:VEVENT
DTSTART;TZID=Europe/Amsterdam:20260621T093000
DTEND;TZID=Europe/Amsterdam:20260621T103000
DTSTAMP:20260419T220405
CREATED:20250829T195805Z
LAST-MODIFIED:20260419T195508Z
UID:11444-1782034200-1782037800@ngk-wezep.nl
SUMMARY:Kerkdienst ds. C.J. van Rhijn (avondmaal)
DESCRIPTION:
URL:https://ngk-wezep.nl/event/kerkdienst-ds-c-j-van-rhijn-avondmaal-2/
CATEGORIES:Kerkdienst
END:VEVENT
BEGIN:VEVENT
DTSTART;TZID=Europe/Amsterdam:20260621T163000
DTEND;TZID=Europe/Amsterdam:20260621T173000
DTSTAMP:20260419T220405
CREATED:20250829T195805Z
LAST-MODIFIED:20260419T195508Z
UID:11445-1782059400-1782063000@ngk-wezep.nl
SUMMARY:Kerkdienst ds. J.M. de Groot (avondmaal)
DESCRIPTION:
URL:https://ngk-wezep.nl/event/kerkdienst-ds-j-m-de-groot-avondmaal-2/
CATEGORIES:Kerkdienst
END:VEVENT
BEGIN:VEVENT
DTSTART;TZID=Europe/Amsterdam:20260625T193000
DTEND;TZID=Europe/Amsterdam:20260625T220000
DTSTAMP:20260419T220405
CREATED:20260105T200114Z
LAST-MODIFIED:20260419T195508Z
UID:11766-1782415800-1782424800@ngk-wezep.nl
SUMMARY:Kerkenraad
DESCRIPTION:
URL:https://ngk-wezep.nl/event/kerkenraad-4/
CATEGORIES:Kerkdienst
END:VEVENT
BEGIN:VEVENT
DTSTART;TZID=Europe/Amsterdam:20260628T093000
DTEND;TZID=Europe/Amsterdam:20260628T103000
DTSTAMP:20260419T220405
CREATED:20250829T195805Z
LAST-MODIFIED:20260419T195508Z
UID:11446-1782639000-1782642600@ngk-wezep.nl
SUMMARY:Kerkdienst ds. C. Lodewijk
DESCRIPTION:
URL:https://ngk-wezep.nl/event/kerkdienst-ds-c-lodewijk-4/
CATEGORIES:Kerkdienst
END:VEVENT
BEGIN:VEVENT
DTSTART;TZID=Europe/Amsterdam:20260628T163000
DTEND;TZID=Europe/Amsterdam:20260628T173000
DTSTAMP:20260419T220405
CREATED:20250829T195805Z
LAST-MODIFIED:20260419T195508Z
UID:11447-1782664200-1782667800@ngk-wezep.nl
SUMMARY:Kerkdienst ds. R.T. te Velde ( in Noorderlicht)
DESCRIPTION:
URL:https://ngk-wezep.nl/event/kerkdienst-prio-n-snijder-in-noorderlicht-3/
CATEGORIES:Kerkdienst
END:VEVENT
END:VCALENDAR