BEGIN:VCALENDAR
VERSION:2.0
PRODID:-//NGK De Morgenster | Wezep - ECPv6.15.20//NONSGML v1.0//EN
CALSCALE:GREGORIAN
METHOD:PUBLISH
X-WR-CALNAME:NGK De Morgenster | Wezep
X-ORIGINAL-URL:https://ngk-wezep.nl
X-WR-CALDESC:Evenementen voor NGK De Morgenster | Wezep
REFRESH-INTERVAL;VALUE=DURATION:PT1H
X-Robots-Tag:noindex
X-PUBLISHED-TTL:PT1H
BEGIN:VTIMEZONE
TZID:Europe/Amsterdam
BEGIN:DAYLIGHT
TZOFFSETFROM:+0100
TZOFFSETTO:+0200
TZNAME:CEST
DTSTART:20250330T010000
END:DAYLIGHT
BEGIN:STANDARD
TZOFFSETFROM:+0200
TZOFFSETTO:+0100
TZNAME:CET
DTSTART:20251026T010000
END:STANDARD
BEGIN:DAYLIGHT
TZOFFSETFROM:+0100
TZOFFSETTO:+0200
TZNAME:CEST
DTSTART:20260329T010000
END:DAYLIGHT
BEGIN:STANDARD
TZOFFSETFROM:+0200
TZOFFSETTO:+0100
TZNAME:CET
DTSTART:20261025T010000
END:STANDARD
BEGIN:DAYLIGHT
TZOFFSETFROM:+0100
TZOFFSETTO:+0200
TZNAME:CEST
DTSTART:20270328T010000
END:DAYLIGHT
BEGIN:STANDARD
TZOFFSETFROM:+0200
TZOFFSETTO:+0100
TZNAME:CET
DTSTART:20271031T010000
END:STANDARD
END:VTIMEZONE
BEGIN:VEVENT
DTSTART;TZID=Europe/Amsterdam:20260802T093000
DTEND;TZID=Europe/Amsterdam:20260802T103000
DTSTAMP:20260419T232916
CREATED:20260105T200115Z
LAST-MODIFIED:20260419T195508Z
UID:11772-1785663000-1785666600@ngk-wezep.nl
SUMMARY:Kerkdienst ds. J.M. de Groot
DESCRIPTION:
URL:https://ngk-wezep.nl/event/kerkdienst-ds-j-m-de-groot-12/
CATEGORIES:Kerkdienst
END:VEVENT
BEGIN:VEVENT
DTSTART;TZID=Europe/Amsterdam:20260802T163000
DTEND;TZID=Europe/Amsterdam:20260802T173000
DTSTAMP:20260419T232916
CREATED:20260105T200115Z
LAST-MODIFIED:20260419T195508Z
UID:11773-1785688200-1785691800@ngk-wezep.nl
SUMMARY:Kerkdienst
DESCRIPTION:
URL:https://ngk-wezep.nl/event/kerkdienst-6/
CATEGORIES:Kerkdienst
END:VEVENT
BEGIN:VEVENT
DTSTART;TZID=Europe/Amsterdam:20260809T093000
DTEND;TZID=Europe/Amsterdam:20260809T103000
DTSTAMP:20260419T232916
CREATED:20260105T200116Z
LAST-MODIFIED:20260419T195509Z
UID:11774-1786267800-1786271400@ngk-wezep.nl
SUMMARY:Kerkdienst prio N. Snijder (IN NOORDERLICHT)
DESCRIPTION:
URL:https://ngk-wezep.nl/event/kerkdienst-prio-n-snijder-in-noorderlicht-4/
CATEGORIES:Kerkdienst
END:VEVENT
BEGIN:VEVENT
DTSTART;TZID=Europe/Amsterdam:20260809T163000
DTEND;TZID=Europe/Amsterdam:20260809T173000
DTSTAMP:20260419T232916
CREATED:20260105T200116Z
LAST-MODIFIED:20260419T195509Z
UID:11775-1786293000-1786296600@ngk-wezep.nl
SUMMARY:Kerkdienst (in Noorderlicht)
DESCRIPTION:
URL:https://ngk-wezep.nl/event/kerkdienst-in-noorderlicht-7/
CATEGORIES:Kerkdienst
END:VEVENT
BEGIN:VEVENT
DTSTART;TZID=Europe/Amsterdam:20260812T193000
DTEND;TZID=Europe/Amsterdam:20260812T220000
DTSTAMP:20260419T232916
CREATED:20260123T195606Z
LAST-MODIFIED:20260419T195509Z
UID:11909-1786563000-1786572000@ngk-wezep.nl
SUMMARY:Bestuursraad
DESCRIPTION:
URL:https://ngk-wezep.nl/event/bestuursraad-5/
CATEGORIES:Kerkdienst
END:VEVENT
BEGIN:VEVENT
DTSTART;TZID=Europe/Amsterdam:20260816T093000
DTEND;TZID=Europe/Amsterdam:20260816T103000
DTSTAMP:20260419T232916
CREATED:20260105T200116Z
LAST-MODIFIED:20260419T195509Z
UID:11776-1786872600-1786876200@ngk-wezep.nl
SUMMARY:Kerkdienst ds. C.J. van Rhijn
DESCRIPTION:
URL:https://ngk-wezep.nl/event/kerkdienst-ds-c-j-van-rhijn-14/
CATEGORIES:Kerkdienst
END:VEVENT
BEGIN:VEVENT
DTSTART;TZID=Europe/Amsterdam:20260816T163000
DTEND;TZID=Europe/Amsterdam:20260816T173000
DTSTAMP:20260419T232916
CREATED:20260105T200116Z
LAST-MODIFIED:20260419T195509Z
UID:11777-1786897800-1786901400@ngk-wezep.nl
SUMMARY:Kerkdienst
DESCRIPTION:
URL:https://ngk-wezep.nl/event/kerkdienst-7/
CATEGORIES:Kerkdienst
END:VEVENT
BEGIN:VEVENT
DTSTART;TZID=Europe/Amsterdam:20260823T093000
DTEND;TZID=Europe/Amsterdam:20260823T103000
DTSTAMP:20260419T232916
CREATED:20260105T200116Z
LAST-MODIFIED:20260419T195509Z
UID:11778-1787477400-1787481000@ngk-wezep.nl
SUMMARY:Kerkdienst br. R. van het Ende
DESCRIPTION:
URL:https://ngk-wezep.nl/event/kerkdienst-br-r-van-het-ende-2/
CATEGORIES:Kerkdienst
END:VEVENT
BEGIN:VEVENT
DTSTART;TZID=Europe/Amsterdam:20260823T163000
DTEND;TZID=Europe/Amsterdam:20260823T173000
DTSTAMP:20260419T232916
CREATED:20260105T200116Z
LAST-MODIFIED:20260419T195509Z
UID:11779-1787502600-1787506200@ngk-wezep.nl
SUMMARY:Kerkdienst prio N. Snijder (in Noorderlicht)
DESCRIPTION:
URL:https://ngk-wezep.nl/event/kerkdienst-prio-n-snijder-in-noorderlicht-5/
CATEGORIES:Kerkdienst
END:VEVENT
BEGIN:VEVENT
DTSTART;TZID=Europe/Amsterdam:20260830T093000
DTEND;TZID=Europe/Amsterdam:20260830T103000
DTSTAMP:20260419T232916
CREATED:20260105T200116Z
LAST-MODIFIED:20260419T195509Z
UID:11780-1788082200-1788085800@ngk-wezep.nl
SUMMARY:Kerkdienst ds. C.J. van Rhijn (avondmaal)
DESCRIPTION:
URL:https://ngk-wezep.nl/event/kerkdienst-ds-c-j-van-rhijn-avondmaal/
CATEGORIES:Kerkdienst
END:VEVENT
BEGIN:VEVENT
DTSTART;TZID=Europe/Amsterdam:20260830T163000
DTEND;TZID=Europe/Amsterdam:20260830T173000
DTSTAMP:20260419T232916
CREATED:20260105T200117Z
LAST-MODIFIED:20260419T195509Z
UID:11781-1788107400-1788111000@ngk-wezep.nl
SUMMARY:Kerkdienst ds. J. Weij (avondmaal)
DESCRIPTION:
URL:https://ngk-wezep.nl/event/kerkdienst-ds-j-weij-avondmaal/
CATEGORIES:Kerkdienst
END:VEVENT
END:VCALENDAR