BEGIN:VCALENDAR
VERSION:2.0
PRODID:-//NGK De Morgenster | Wezep - ECPv6.15.20//NONSGML v1.0//EN
CALSCALE:GREGORIAN
METHOD:PUBLISH
X-ORIGINAL-URL:https://ngk-wezep.nl
X-WR-CALDESC:Evenementen voor NGK De Morgenster | Wezep
REFRESH-INTERVAL;VALUE=DURATION:PT1H
X-Robots-Tag:noindex
X-PUBLISHED-TTL:PT1H
BEGIN:VTIMEZONE
TZID:Europe/Amsterdam
BEGIN:DAYLIGHT
TZOFFSETFROM:+0100
TZOFFSETTO:+0200
TZNAME:CEST
DTSTART:20250330T010000
END:DAYLIGHT
BEGIN:STANDARD
TZOFFSETFROM:+0200
TZOFFSETTO:+0100
TZNAME:CET
DTSTART:20251026T010000
END:STANDARD
BEGIN:DAYLIGHT
TZOFFSETFROM:+0100
TZOFFSETTO:+0200
TZNAME:CEST
DTSTART:20260329T010000
END:DAYLIGHT
BEGIN:STANDARD
TZOFFSETFROM:+0200
TZOFFSETTO:+0100
TZNAME:CET
DTSTART:20261025T010000
END:STANDARD
BEGIN:DAYLIGHT
TZOFFSETFROM:+0100
TZOFFSETTO:+0200
TZNAME:CEST
DTSTART:20270328T010000
END:DAYLIGHT
BEGIN:STANDARD
TZOFFSETFROM:+0200
TZOFFSETTO:+0100
TZNAME:CET
DTSTART:20271031T010000
END:STANDARD
END:VTIMEZONE
BEGIN:VEVENT
DTSTART;TZID=Europe/Amsterdam:20260426T093000
DTEND;TZID=Europe/Amsterdam:20260426T103000
DTSTAMP:20260422T121450
CREATED:20250829T195802Z
LAST-MODIFIED:20260421T200802Z
UID:11427-1777195800-1777199400@ngk-wezep.nl
SUMMARY:Kerkdienst br. R. van het Ende
DESCRIPTION:
URL:https://ngk-wezep.nl/event/kerkdienst-2/
CATEGORIES:Kerkdienst
END:VEVENT
BEGIN:VEVENT
DTSTART;TZID=Europe/Amsterdam:20260426T163000
DTEND;TZID=Europe/Amsterdam:20260426T173000
DTSTAMP:20260422T121450
CREATED:20250829T195802Z
LAST-MODIFIED:20260421T200802Z
UID:11428-1777221000-1777224600@ngk-wezep.nl
SUMMARY:Kerkdienst ds. M. van Loon
DESCRIPTION:
URL:https://ngk-wezep.nl/event/kerkdienst-ds-m-van-loon-2/
CATEGORIES:Kerkdienst
END:VEVENT
END:VCALENDAR